BEGIN:VCALENDAR
VERSION:2.0
PRODID:-//Earthcare St Kilda - ECPv6.13.2.1//NONSGML v1.0//EN
CALSCALE:GREGORIAN
METHOD:PUBLISH
X-WR-CALNAME:Earthcare St Kilda
X-ORIGINAL-URL:https://earthcarestkilda.org.au
X-WR-CALDESC:Events for Earthcare St Kilda
REFRESH-INTERVAL;VALUE=DURATION:PT1H
X-Robots-Tag:noindex
X-PUBLISHED-TTL:PT1H
BEGIN:VTIMEZONE
TZID:Australia/Melbourne
BEGIN:STANDARD
TZOFFSETFROM:+1100
TZOFFSETTO:+1000
TZNAME:AEST
DTSTART:20260404T160000
END:STANDARD
BEGIN:DAYLIGHT
TZOFFSETFROM:+1000
TZOFFSETTO:+1100
TZNAME:AEDT
DTSTART:20261003T160000
END:DAYLIGHT
END:VTIMEZONE
BEGIN:VEVENT
DTSTART;TZID=Australia/Melbourne:20260802T100000
DTEND;TZID=Australia/Melbourne:20260802T120000
DTSTAMP:20260422T141956
CREATED:20260119T202702Z
LAST-MODIFIED:20260319T040528Z
UID:3292-1785664800-1785672000@earthcarestkilda.org.au
SUMMARY:Breakwater Clean-Up
DESCRIPTION:Join us for a meaningful day of conservation as we help clean up the habitat of our beloved St Kilda Little Penguin colony! \nRemoving rubbish is crucial – plastic waste can be ingested by penguins causing serious health issues\, while debris used in nest-building can prevent proper insulation\, leaving eggs dangerously cold and wet. \n======================================== \n𝐑𝐞𝐠𝐢𝐬𝐭𝐫𝐚𝐭𝐢𝐨𝐧: ESSENTIAL – click the link below. No registration means no entry to the breakwater on the day. Once registered via the link you will receive a confirmation email that includes the exact meeting point\, time\, and other important information. \nTime: 10am – 12pm \n𝐏𝐫𝐢𝐜𝐞: All our events are free. If someone offers to sell you a ticket please decline and report. \nAll equipment is provided.  \n======================================== \n𝐸𝑣𝑒𝑟𝑦 𝑝𝑖𝑒𝑐𝑒 𝑜𝑓 𝑟𝑢𝑏𝑏𝑖𝑠ℎ 𝑐𝑜𝑙𝑙𝑒𝑐𝑡𝑒𝑑 ℎ𝑒𝑙𝑝𝑠 𝑐𝑟𝑒𝑎𝑡𝑒 𝑎 𝑠𝑎𝑓𝑒𝑟\, 𝑐𝑙𝑒𝑎𝑛𝑒𝑟 𝑒𝑛𝑣𝑖𝑟𝑜𝑛𝑚𝑒𝑛𝑡 𝑓𝑜𝑟 𝑜𝑢𝑟 𝑝𝑒𝑛𝑔𝑢𝑖𝑛𝑠. 𝑇𝑜𝑔𝑒𝑡ℎ𝑒𝑟 𝑤𝑒 𝑐𝑎𝑛 𝑒𝑛𝑠𝑢𝑟𝑒 𝑡ℎ𝑒𝑦 ℎ𝑎𝑣𝑒 𝑡ℎ𝑒 𝑐𝑙𝑒𝑎𝑛\, 𝑠𝑎𝑓𝑒 ℎ𝑎𝑏𝑖𝑡𝑎𝑡 𝑡ℎ𝑒𝑦 𝑑𝑒𝑠𝑒𝑟𝑣𝑒. \nRegister HERE
URL:https://earthcarestkilda.org.au/event/breakwater-clean-up-15/
LOCATION:Breakwater at end of St Kilda pier\, St Kilda\, Australia
END:VEVENT
END:VCALENDAR